BEGIN:VCALENDAR
VERSION:2.0
PRODID:-//Tukios.com/
BEGIN:VEVENT
UID:07972828-d036-46f0-85d6-063f23eb906e@www.acevezfuneralhome.com
DTSTAMP:20260419T162052Z
DTSTART:20260424T174500Z
DTEND:20260424T184500Z
SUMMARY:Burial
DESCRIPTION:
URL:https://www.acevezfuneralhome.com/obituaries/jose-rivas
LOCATION: 2305 W. 173rd Avenue  Merrillville IN 
GEO:41.4828144;-87.3328139
END:VEVENT
END:VCALENDAR