BEGIN:VCALENDAR
VERSION:2.0
PRODID:-//Tukios.com/
BEGIN:VEVENT
UID:f0401ee0-a298-4775-ab08-d8e4e1b297d1@www.acevezfuneralhome.com
DTSTAMP:20260419T161511Z
DTSTART:20260424T160000Z
DTEND:20260424T170000Z
SUMMARY:Mass
DESCRIPTION:Father Eduardo Malagon Officiating
URL:https://www.acevezfuneralhome.com/obituaries/jose-rivas
LOCATION: 4340 Johnson Avenue  Hammond IN 46327
GEO:41.6340499;-87.5139646
END:VEVENT
END:VCALENDAR