BEGIN:VCALENDAR
VERSION:2.0
PRODID:-//Tukios.com/
BEGIN:VEVENT
UID:f01e9109-75af-4ea8-a17b-c2bb0979ece5@www.acevezfuneralhome.com
DTSTAMP:20260419T161634Z
DTSTART:20260424T140000Z
DTEND:20260424T154500Z
SUMMARY:Visitation
DESCRIPTION:
URL:https://www.acevezfuneralhome.com/obituaries/jose-rivas
LOCATION: 4404 Cameron Ave  Hammond IN 46327
GEO:41.6337974;-87.5151487
END:VEVENT
END:VCALENDAR