BEGIN:VCALENDAR
VERSION:2.0
PRODID:-//Tukios.com/
BEGIN:VEVENT
UID:688bfe78-694f-4ee8-a93b-439f29671bb9@www.acevezfuneralhome.com
DTSTAMP:20260420T231604Z
DTSTART:20260423
SUMMARY:Burial
DESCRIPTION:
URL:https://www.acevezfuneralhome.com/obituaries/anna-rusnak
LOCATION: 801 Michigan City Road  Calumet City IL 60409
GEO:41.6037633;-87.5457663
END:VEVENT
END:VCALENDAR