BEGIN:VCALENDAR
VERSION:2.0
PRODID:-//Tukios.com/
BEGIN:VEVENT
UID:99c869d0-7c1a-49c0-b293-85e95ff76c74@www.acevezfuneralhome.com
DTSTAMP:20260420T231310Z
DTSTART:20260423T160000Z
DTEND:20260423T170000Z
SUMMARY:Mass
DESCRIPTION:
URL:https://www.acevezfuneralhome.com/obituaries/anna-rusnak
LOCATION: 4340 Johnson Avenue  Hammond IN 46327
GEO:41.6340499;-87.5139646
END:VEVENT
END:VCALENDAR