BEGIN:VCALENDAR
VERSION:2.0
PRODID:-//Tukios.com/
BEGIN:VEVENT
UID:1531bc4c-504c-494c-a3e2-78ac7cc713c5@www.acevezfuneralhome.com
DTSTAMP:20260420T231655Z
DTSTART:20260423T143000Z
DTEND:20260423T154500Z
SUMMARY:Final Viewing and Closing Prayers
DESCRIPTION:
URL:https://www.acevezfuneralhome.com/obituaries/anna-rusnak
LOCATION: 4404 Cameron Ave  Hammond IN 46327
GEO:41.6337974;-87.5151487
END:VEVENT
END:VCALENDAR