BEGIN:VCALENDAR
VERSION:2.0
PRODID:-//Tukios.com/
BEGIN:VEVENT
UID:26053251-3d02-492e-ac02-b44c4f7c97bf@www.acevezfuneralhome.com
DTSTAMP:20260420T231604Z
DTSTART:20260422T210000Z
DTEND:20260423T010000Z
SUMMARY:Visitation
DESCRIPTION:
URL:https://www.acevezfuneralhome.com/obituaries/anna-rusnak
LOCATION: 4404 Cameron Ave  Hammond IN 46327
GEO:41.6337974;-87.5151487
END:VEVENT
END:VCALENDAR